##############################################################################
##############################################################################
###
### Running command:
###
###   /home/biocbuild/R/R-4.3.1/bin/R CMD INSTALL GCSscore
###
##############################################################################
##############################################################################


* installing to library ‘/home/biocbuild/R/R-4.3.1/site-library’
* installing *source* package ‘GCSscore’ ...
** using staged installation
** R
** inst
** byte-compile and prepare package for lazy loading
** help
*** installing help indices
** building package indices
** installing vignettes
** testing if installed package can be loaded from temporary location
Warning: Package 'GCSscore' is deprecated and will be removed from Bioconductor
  version 3.19
** testing if installed package can be loaded from final location
Warning: Package 'GCSscore' is deprecated and will be removed from Bioconductor
  version 3.19
** testing if installed package keeps a record of temporary installation path
* DONE (GCSscore)