Package: GCSscore Version: 1.16.0 Command: /home/biocbuild/bbs-3.18-bioc/R/bin/R CMD build --keep-empty-dirs --no-resave-data GCSscore StartedAt: 2024-04-15 17:10:00 -0400 (Mon, 15 Apr 2024) EndedAt: 2024-04-15 17:13:04 -0400 (Mon, 15 Apr 2024) EllapsedTime: 184.4 seconds RetCode: 0 Status: OK PackageFile: GCSscore_1.16.0.tar.gz PackageFileSize: 4.167 MiB