Package: GCSscore Version: 1.16.0 Command: rm -rf GCSscore.buildbin-libdir && mkdir GCSscore.buildbin-libdir && F:\biocbuild\bbs-3.18-bioc\R\bin\R.exe CMD INSTALL --build --library=GCSscore.buildbin-libdir GCSscore_1.16.0.tar.gz StartedAt: 2024-04-16 07:02:32 -0400 (Tue, 16 Apr 2024) EndedAt: 2024-04-16 07:03:00 -0400 (Tue, 16 Apr 2024) EllapsedTime: 27.0 seconds RetCode: 0 Status: OK PackageFile: GCSscore_1.16.0.zip PackageFileSize: 4.26 MiB