Package: GCSscore Version: 1.16.0 Command: chmod a+r GCSscore -R && F:\biocbuild\bbs-3.18-bioc\R\bin\R.exe CMD build --keep-empty-dirs --no-resave-data GCSscore StartedAt: 2024-04-15 18:38:23 -0400 (Mon, 15 Apr 2024) EndedAt: 2024-04-15 18:41:30 -0400 (Mon, 15 Apr 2024) EllapsedTime: 187.0 seconds RetCode: 0 Status: OK PackageFile: GCSscore_1.16.0.tar.gz PackageFileSize: 4.17 MiB