Package: GCSscore Version: 1.16.0 Command: F:\biocbuild\bbs-3.18-bioc\R\bin\R.exe CMD check --no-multiarch --install=check:GCSscore.install-out.txt --library=F:\biocbuild\bbs-3.18-bioc\R\library --no-vignettes --timings GCSscore_1.16.0.tar.gz StartedAt: 2024-04-16 00:58:32 -0400 (Tue, 16 Apr 2024) EndedAt: 2024-04-16 01:00:07 -0400 (Tue, 16 Apr 2024) EllapsedTime: 94.9 seconds RetCode: 0 Status: WARNINGS CheckDir: GCSscore.Rcheck Warnings: 1