Package: GENESIS Version: 2.32.0 Command: /home/biocbuild/R/R-4.3.1/bin/R CMD INSTALL GENESIS StartedAt: 2023-11-01 20:50:50 -0000 (Wed, 01 Nov 2023) EndedAt: 2023-11-01 20:51:28 -0000 (Wed, 01 Nov 2023) EllapsedTime: 37.6 seconds RetCode: 0 Status: OK