Package: GENESIS Version: 2.32.0 Command: /Library/Frameworks/R.framework/Resources/bin/R CMD check --install=check:GENESIS.install-out.txt --library=/Library/Frameworks/R.framework/Resources/library --no-vignettes --timings GENESIS_2.32.0.tar.gz StartedAt: 2024-03-03 20:47:44 -0500 (Sun, 03 Mar 2024) EndedAt: 2024-03-03 20:54:54 -0500 (Sun, 03 Mar 2024) EllapsedTime: 430.6 seconds RetCode: 0 Status: OK CheckDir: GENESIS.Rcheck Warnings: 0