Package: GENESIS Version: 2.32.0 Command: F:\biocbuild\bbs-3.18-bioc\R\bin\R.exe CMD INSTALL GENESIS StartedAt: 2024-04-15 16:31:09 -0400 (Mon, 15 Apr 2024) EndedAt: 2024-04-15 16:31:52 -0400 (Mon, 15 Apr 2024) EllapsedTime: 42.3 seconds RetCode: 0 Status: OK