Package: GEOsubmission Version: 1.54.0 Command: chmod a+r GEOsubmission -R && F:\biocbuild\bbs-3.18-bioc\R\bin\R.exe CMD build --keep-empty-dirs --no-resave-data GEOsubmission StartedAt: 2024-04-15 18:45:08 -0400 (Mon, 15 Apr 2024) EndedAt: 2024-04-15 18:45:22 -0400 (Mon, 15 Apr 2024) EllapsedTime: 14.0 seconds RetCode: 0 Status: OK PackageFile: GEOsubmission_1.54.0.tar.gz PackageFileSize: 78.94 KiB