Package: GEWIST Version: 1.46.0 Command: rm -rf GEWIST.buildbin-libdir && mkdir GEWIST.buildbin-libdir && /Users/biocbuild/BBS/utils/build-universal.sh GEWIST_1.46.0.tar.gz /Library/Frameworks/R.framework/Resources/bin/R GEWIST.buildbin-libdir StartedAt: 2024-03-04 00:43:30 -0500 (Mon, 04 Mar 2024) EndedAt: 2024-03-04 00:43:35 -0500 (Mon, 04 Mar 2024) EllapsedTime: 4.6 seconds RetCode: 0 Status: OK PackageFile: GEWIST_1.46.0.tgz PackageFileSize: 411.6 KiB