Package: GEWIST Version: 1.46.0 Command: /Library/Frameworks/R.framework/Resources/bin/R CMD build --keep-empty-dirs --no-resave-data GEWIST StartedAt: 2024-03-03 16:52:24 -0500 (Sun, 03 Mar 2024) EndedAt: 2024-03-03 16:54:31 -0500 (Sun, 03 Mar 2024) EllapsedTime: 127.3 seconds RetCode: 0 Status: OK PackageFile: GEWIST_1.46.0.tar.gz PackageFileSize: 387.6 KiB