Package: GEWIST Version: 1.46.0 Command: /Library/Frameworks/R.framework/Resources/bin/R CMD INSTALL GEWIST StartedAt: 2024-03-03 15:32:37 -0500 (Sun, 03 Mar 2024) EndedAt: 2024-03-03 15:32:41 -0500 (Sun, 03 Mar 2024) EllapsedTime: 3.8 seconds RetCode: 0 Status: OK