Package: GEWIST Version: 1.46.0 Command: rm -rf GEWIST.buildbin-libdir && mkdir GEWIST.buildbin-libdir && /Users/biocbuild/BBS/utils/build-universal.sh GEWIST_1.46.0.tar.gz /Library/Frameworks/R.framework/Resources/bin/R GEWIST.buildbin-libdir StartedAt: 2024-04-16 11:49:55 -0400 (Tue, 16 Apr 2024) EndedAt: 2024-04-16 11:50:01 -0400 (Tue, 16 Apr 2024) EllapsedTime: 6.3 seconds RetCode: 0 Status: OK PackageFile: GEWIST_1.46.0.tgz PackageFileSize: 412.3 KiB