Package: GEWIST Version: 1.46.0 Command: /Library/Frameworks/R.framework/Resources/bin/R CMD check --install=check:GEWIST.install-out.txt --library=/Library/Frameworks/R.framework/Resources/library --no-vignettes --timings GEWIST_1.46.0.tar.gz StartedAt: 2024-04-16 03:24:59 -0400 (Tue, 16 Apr 2024) EndedAt: 2024-04-16 03:26:24 -0400 (Tue, 16 Apr 2024) EllapsedTime: 85.2 seconds RetCode: 0 Status: OK CheckDir: GEWIST.Rcheck Warnings: 0