Package: GEWIST Version: 1.46.0 Command: /home/biocbuild/bbs-3.18-bioc/R/bin/R CMD INSTALL GEWIST StartedAt: 2024-04-15 15:37:23 -0400 (Mon, 15 Apr 2024) EndedAt: 2024-04-15 15:37:25 -0400 (Mon, 15 Apr 2024) EllapsedTime: 1.7 seconds RetCode: 0 Status: OK