Package: GGPA Version: 1.14.0 Command: /home/biocbuild/R/R-4.3.1/bin/R CMD INSTALL GGPA StartedAt: 2023-11-01 20:13:47 -0000 (Wed, 01 Nov 2023) EndedAt: 2023-11-01 20:14:54 -0000 (Wed, 01 Nov 2023) EllapsedTime: 67.0 seconds RetCode: 0 Status: OK