Package: GGPA Version: 1.14.0 Command: /home/biocbuild/bbs-3.18-bioc/R/bin/R CMD check --install=check:GGPA.install-out.txt --library=/home/biocbuild/bbs-3.18-bioc/R/site-library --timings GGPA_1.14.0.tar.gz StartedAt: 2024-04-15 23:17:07 -0400 (Mon, 15 Apr 2024) EndedAt: 2024-04-15 23:20:39 -0400 (Mon, 15 Apr 2024) EllapsedTime: 212.6 seconds RetCode: 0 Status: OK CheckDir: GGPA.Rcheck Warnings: 0