Package: GISPA Version: 1.26.0 Command: rm -rf GISPA.buildbin-libdir && mkdir GISPA.buildbin-libdir && /Users/biocbuild/BBS/utils/build-universal.sh GISPA_1.26.0.tar.gz /Library/Frameworks/R.framework/Resources/bin/R GISPA.buildbin-libdir StartedAt: 2024-03-04 00:43:55 -0500 (Mon, 04 Mar 2024) EndedAt: 2024-03-04 00:44:32 -0500 (Mon, 04 Mar 2024) EllapsedTime: 37.4 seconds RetCode: 0 Status: OK PackageFile: GISPA_1.26.0.tgz PackageFileSize: 236.7 KiB