Package: GISPA Version: 1.26.0 Command: /Library/Frameworks/R.framework/Resources/bin/R CMD INSTALL GISPA StartedAt: 2024-03-03 15:33:20 -0500 (Sun, 03 Mar 2024) EndedAt: 2024-03-03 15:33:57 -0500 (Sun, 03 Mar 2024) EllapsedTime: 36.7 seconds RetCode: 0 Status: OK