Package: GISPA Version: 1.26.0 Command: /Library/Frameworks/R.framework/Resources/bin/R CMD check --install=check:GISPA.install-out.txt --library=/Library/Frameworks/R.framework/Resources/library --no-vignettes --timings GISPA_1.26.0.tar.gz StartedAt: 2024-04-16 03:30:10 -0400 (Tue, 16 Apr 2024) EndedAt: 2024-04-16 03:35:54 -0400 (Tue, 16 Apr 2024) EllapsedTime: 344.0 seconds RetCode: 0 Status: WARNINGS CheckDir: GISPA.Rcheck Warnings: 1