Package: GOexpress Version: 1.36.0 Command: /Library/Frameworks/R.framework/Resources/bin/R CMD build --keep-empty-dirs --no-resave-data GOexpress StartedAt: 2024-03-03 16:54:43 -0500 (Sun, 03 Mar 2024) EndedAt: 2024-03-03 16:55:30 -0500 (Sun, 03 Mar 2024) EllapsedTime: 47.4 seconds RetCode: 0 Status: OK PackageFile: GOexpress_1.36.0.tar.gz PackageFileSize: 2.346 MiB