Package: GOexpress Version: 1.36.0 Command: /Library/Frameworks/R.framework/Resources/bin/R CMD INSTALL GOexpress StartedAt: 2024-03-03 15:17:53 -0500 (Sun, 03 Mar 2024) EndedAt: 2024-03-03 15:18:24 -0500 (Sun, 03 Mar 2024) EllapsedTime: 30.8 seconds RetCode: 0 Status: OK