Package: GOfuncR Version: 1.22.2 Command: rm -rf GOfuncR.buildbin-libdir && mkdir GOfuncR.buildbin-libdir && F:\biocbuild\bbs-3.18-bioc\R\bin\R.exe CMD INSTALL --build --library=GOfuncR.buildbin-libdir GOfuncR_1.22.2.tar.gz StartedAt: 2024-04-16 07:05:59 -0400 (Tue, 16 Apr 2024) EndedAt: 2024-04-16 07:09:24 -0400 (Tue, 16 Apr 2024) EllapsedTime: 205.5 seconds RetCode: 0 Status: OK PackageFile: GOfuncR_1.22.2.zip PackageFileSize: 4.193 MiB