Package: GOfuncR Version: 1.22.2 Command: chmod a+r GOfuncR -R && F:\biocbuild\bbs-3.18-bioc\R\bin\R.exe CMD build --keep-empty-dirs --no-resave-data GOfuncR StartedAt: 2024-04-15 18:49:56 -0400 (Mon, 15 Apr 2024) EndedAt: 2024-04-15 18:59:56 -0400 (Mon, 15 Apr 2024) EllapsedTime: 599.8 seconds RetCode: 0 Status: OK PackageFile: GOfuncR_1.22.2.tar.gz PackageFileSize: 4.738 MiB