Package: GOfuncR Version: 1.22.2 Command: F:\biocbuild\bbs-3.18-bioc\R\bin\R.exe CMD check --no-multiarch --install=check:GOfuncR.install-out.txt --library=F:\biocbuild\bbs-3.18-bioc\R\library --no-vignettes --timings GOfuncR_1.22.2.tar.gz StartedAt: 2024-04-16 01:22:05 -0400 (Tue, 16 Apr 2024) EndedAt: 2024-04-16 01:33:53 -0400 (Tue, 16 Apr 2024) EllapsedTime: 707.7 seconds RetCode: 0 Status: OK CheckDir: GOfuncR.Rcheck Warnings: 0