Package: GRENITS Version: 1.54.0 Command: /home/biocbuild/R/R-4.3.1/bin/R CMD check --install=check:GRENITS.install-out.txt --library=/home/biocbuild/R/R-4.3.1/site-library --no-vignettes --timings GRENITS_1.54.0.tar.gz StartedAt: 2023-11-02 11:08:17 -0000 (Thu, 02 Nov 2023) EndedAt: 2023-11-02 11:12:12 -0000 (Thu, 02 Nov 2023) EllapsedTime: 235.0 seconds RetCode: 0 Status: OK CheckDir: GRENITS.Rcheck Warnings: 0