Package: GRENITS Version: 1.54.0 Command: /Library/Frameworks/R.framework/Resources/bin/R CMD INSTALL GRENITS StartedAt: 2024-04-15 15:16:10 -0400 (Mon, 15 Apr 2024) EndedAt: 2024-04-15 15:19:36 -0400 (Mon, 15 Apr 2024) EllapsedTime: 205.6 seconds RetCode: 0 Status: OK