Package: GRENITS Version: 1.54.0 Command: chmod a+r GRENITS -R && F:\biocbuild\bbs-3.18-bioc\R\bin\R.exe CMD build --keep-empty-dirs --no-resave-data GRENITS StartedAt: 2024-04-15 18:54:06 -0400 (Mon, 15 Apr 2024) EndedAt: 2024-04-15 18:56:26 -0400 (Mon, 15 Apr 2024) EllapsedTime: 139.7 seconds RetCode: 0 Status: OK PackageFile: GRENITS_1.54.0.tar.gz PackageFileSize: 151.3 KiB