Package: GRaNIE Version: 1.6.1 Command: /Library/Frameworks/R.framework/Resources/bin/R CMD INSTALL GRaNIE StartedAt: 2024-03-03 15:44:45 -0500 (Sun, 03 Mar 2024) EndedAt: 2024-03-03 15:45:51 -0500 (Sun, 03 Mar 2024) EllapsedTime: 66.5 seconds RetCode: 0 Status: OK