Package: GRmetrics Version: 1.28.0 Command: /Library/Frameworks/R.framework/Resources/bin/R CMD build --keep-empty-dirs --no-resave-data GRmetrics StartedAt: 2024-04-15 19:09:55 -0400 (Mon, 15 Apr 2024) EndedAt: 2024-04-15 19:11:33 -0400 (Mon, 15 Apr 2024) EllapsedTime: 97.8 seconds RetCode: 0 Status: OK PackageFile: GRmetrics_1.28.0.tar.gz PackageFileSize: 1.937 MiB