Package: GRmetrics Version: 1.28.0 Command: /Library/Frameworks/R.framework/Resources/bin/R CMD check --install=check:GRmetrics.install-out.txt --library=/Library/Frameworks/R.framework/Resources/library --no-vignettes --timings GRmetrics_1.28.0.tar.gz StartedAt: 2024-04-16 03:41:56 -0400 (Tue, 16 Apr 2024) EndedAt: 2024-04-16 03:46:19 -0400 (Tue, 16 Apr 2024) EllapsedTime: 263.0 seconds RetCode: 0 Status: OK CheckDir: GRmetrics.Rcheck Warnings: 0