Package: GRmetrics Version: 1.28.0 Command: rm -rf GRmetrics.buildbin-libdir && mkdir GRmetrics.buildbin-libdir && F:\biocbuild\bbs-3.18-bioc\R\bin\R.exe CMD INSTALL --build --library=GRmetrics.buildbin-libdir GRmetrics_1.28.0.tar.gz StartedAt: 2024-04-16 07:06:55 -0400 (Tue, 16 Apr 2024) EndedAt: 2024-04-16 07:07:34 -0400 (Tue, 16 Apr 2024) EllapsedTime: 38.4 seconds RetCode: 0 Status: OK PackageFile: GRmetrics_1.28.0.zip PackageFileSize: 1.683 MiB