Package: GRridge Version: 1.26.0 Command: chmod a+r GRridge -R && F:\biocbuild\bbs-3.18-bioc\R\bin\R.exe CMD build --keep-empty-dirs --no-resave-data GRridge StartedAt: 2024-04-15 18:55:11 -0400 (Mon, 15 Apr 2024) EndedAt: 2024-04-15 18:55:39 -0400 (Mon, 15 Apr 2024) EllapsedTime: 27.7 seconds RetCode: 0 Status: OK PackageFile: GRridge_1.26.0.tar.gz PackageFileSize: 8.88 MiB