Package: GSALightning Version: 1.30.0 Command: /home/biocbuild/R/R-4.3.1/bin/R CMD check --install=check:GSALightning.install-out.txt --library=/home/biocbuild/R/R-4.3.1/site-library --no-vignettes --timings GSALightning_1.30.0.tar.gz StartedAt: 2023-11-02 11:08:43 -0000 (Thu, 02 Nov 2023) EndedAt: 2023-11-02 11:09:39 -0000 (Thu, 02 Nov 2023) EllapsedTime: 56.1 seconds RetCode: 0 Status: OK CheckDir: GSALightning.Rcheck Warnings: 0