Package: GSALightning Version: 1.30.0 Command: /Library/Frameworks/R.framework/Resources/bin/R CMD build --keep-empty-dirs --no-resave-data GSALightning StartedAt: 2024-04-15 19:10:28 -0400 (Mon, 15 Apr 2024) EndedAt: 2024-04-15 19:12:44 -0400 (Mon, 15 Apr 2024) EllapsedTime: 135.6 seconds RetCode: 0 Status: OK PackageFile: GSALightning_1.30.0.tar.gz PackageFileSize: 4.271 MiB