Package: GSReg Version: 1.36.0 Command: /home/biocbuild/bbs-3.18-bioc/R/bin/R CMD check --install=check:GSReg.install-out.txt --library=/home/biocbuild/bbs-3.18-bioc/R/site-library --timings GSReg_1.36.0.tar.gz StartedAt: 2024-04-15 23:34:04 -0400 (Mon, 15 Apr 2024) EndedAt: 2024-04-15 23:38:34 -0400 (Mon, 15 Apr 2024) EllapsedTime: 269.6 seconds RetCode: 0 Status: WARNINGS CheckDir: GSReg.Rcheck Warnings: 3