Package: GSVA Version: 1.50.5 Command: /Library/Frameworks/R.framework/Resources/bin/R CMD INSTALL GSVA StartedAt: 2024-04-15 16:24:01 -0400 (Mon, 15 Apr 2024) EndedAt: 2024-04-15 16:25:21 -0400 (Mon, 15 Apr 2024) EllapsedTime: 80.1 seconds RetCode: 0 Status: OK