Package: GSVA Version: 1.50.5 Command: /home/biocbuild/bbs-3.18-bioc/R/bin/R CMD INSTALL GSVA StartedAt: 2024-04-15 15:43:07 -0400 (Mon, 15 Apr 2024) EndedAt: 2024-04-15 15:43:45 -0400 (Mon, 15 Apr 2024) EllapsedTime: 38.0 seconds RetCode: 0 Status: OK