Package: GUIDEseq Version: 1.32.0 Command: rm -rf GUIDEseq.buildbin-libdir && mkdir GUIDEseq.buildbin-libdir && /Users/biocbuild/BBS/utils/build-universal.sh GUIDEseq_1.32.0.tar.gz /Library/Frameworks/R.framework/Resources/bin/R GUIDEseq.buildbin-libdir StartedAt: 2024-03-04 00:44:55 -0500 (Mon, 04 Mar 2024) EndedAt: 2024-03-04 00:46:07 -0500 (Mon, 04 Mar 2024) EllapsedTime: 71.4 seconds RetCode: 0 Status: OK PackageFile: GUIDEseq_1.32.0.tgz PackageFileSize: 6.092 MiB