Package: GUIDEseq Version: 1.32.0 Command: /Library/Frameworks/R.framework/Resources/bin/R CMD INSTALL GUIDEseq StartedAt: 2024-04-15 16:30:25 -0400 (Mon, 15 Apr 2024) EndedAt: 2024-04-15 16:32:08 -0400 (Mon, 15 Apr 2024) EllapsedTime: 102.8 seconds RetCode: 0 Status: OK