Package: GWASTools Version: 1.48.0 Command: /home/biocbuild/R/R-4.3.1/bin/R CMD build --keep-empty-dirs --no-resave-data GWASTools StartedAt: 2023-11-02 01:57:42 -0000 (Thu, 02 Nov 2023) EndedAt: 2023-11-02 01:58:43 -0000 (Thu, 02 Nov 2023) EllapsedTime: 61.1 seconds RetCode: 0 Status: OK PackageFile: GWASTools_1.48.0.tar.gz PackageFileSize: 1.93 MiB