Package: GWASTools Version: 1.48.0 Command: /home/biocbuild/R/R-4.3.1/bin/R CMD check --install=check:GWASTools.install-out.txt --library=/home/biocbuild/R/R-4.3.1/site-library --no-vignettes --timings GWASTools_1.48.0.tar.gz StartedAt: 2023-11-02 11:12:12 -0000 (Thu, 02 Nov 2023) EndedAt: 2023-11-02 11:18:14 -0000 (Thu, 02 Nov 2023) EllapsedTime: 361.8 seconds RetCode: 0 Status: OK CheckDir: GWASTools.Rcheck Warnings: 0