Package: GWASTools Version: 1.48.0 Command: /Library/Frameworks/R.framework/Resources/bin/R CMD INSTALL GWASTools StartedAt: 2024-03-03 15:35:39 -0500 (Sun, 03 Mar 2024) EndedAt: 2024-03-03 15:36:15 -0500 (Sun, 03 Mar 2024) EllapsedTime: 36.3 seconds RetCode: 0 Status: OK