Package: GWASTools Version: 1.48.0 Command: /Library/Frameworks/R.framework/Resources/bin/R CMD build --keep-empty-dirs --no-resave-data GWASTools StartedAt: 2024-04-15 19:14:55 -0400 (Mon, 15 Apr 2024) EndedAt: 2024-04-15 19:17:05 -0400 (Mon, 15 Apr 2024) EllapsedTime: 130.1 seconds RetCode: 0 Status: OK PackageFile: GWASTools_1.48.0.tar.gz PackageFileSize: 1.937 MiB