Package: GWASTools Version: 1.48.0 Command: /Library/Frameworks/R.framework/Resources/bin/R CMD check --install=check:GWASTools.install-out.txt --library=/Library/Frameworks/R.framework/Resources/library --no-vignettes --timings GWASTools_1.48.0.tar.gz StartedAt: 2024-04-16 03:48:12 -0400 (Tue, 16 Apr 2024) EndedAt: 2024-04-16 03:59:53 -0400 (Tue, 16 Apr 2024) EllapsedTime: 701.2 seconds RetCode: 0 Status: OK CheckDir: GWASTools.Rcheck Warnings: 0