Package: GWASTools Version: 1.48.0 Command: /Library/Frameworks/R.framework/Resources/bin/R CMD INSTALL GWASTools StartedAt: 2024-04-15 16:18:07 -0400 (Mon, 15 Apr 2024) EndedAt: 2024-04-15 16:19:08 -0400 (Mon, 15 Apr 2024) EllapsedTime: 60.4 seconds RetCode: 0 Status: OK