Package: GWASTools Version: 1.48.0 Command: F:\biocbuild\bbs-3.18-bioc\R\bin\R.exe CMD check --no-multiarch --install=check:GWASTools.install-out.txt --library=F:\biocbuild\bbs-3.18-bioc\R\library --no-vignettes --timings GWASTools_1.48.0.tar.gz StartedAt: 2024-04-16 01:32:53 -0400 (Tue, 16 Apr 2024) EndedAt: 2024-04-16 01:38:42 -0400 (Tue, 16 Apr 2024) EllapsedTime: 349.2 seconds RetCode: 0 Status: OK CheckDir: GWASTools.Rcheck Warnings: 0