Package: GenProSeq Version: 1.6.0 Command: rm -rf GenProSeq.buildbin-libdir && mkdir GenProSeq.buildbin-libdir && /Users/biocbuild/BBS/utils/build-universal.sh GenProSeq_1.6.0.tar.gz /Library/Frameworks/R.framework/Resources/bin/R GenProSeq.buildbin-libdir StartedAt: 2024-04-16 11:48:40 -0400 (Tue, 16 Apr 2024) EndedAt: 2024-04-16 11:49:17 -0400 (Tue, 16 Apr 2024) EllapsedTime: 36.6 seconds RetCode: 0 Status: OK PackageFile: GenProSeq_1.6.0.tgz PackageFileSize: 1.624 MiB