Package: GenProSeq Version: 1.6.0 Command: /Library/Frameworks/R.framework/Resources/bin/R CMD INSTALL GenProSeq StartedAt: 2024-04-15 16:38:34 -0400 (Mon, 15 Apr 2024) EndedAt: 2024-04-15 16:39:00 -0400 (Mon, 15 Apr 2024) EllapsedTime: 26.0 seconds RetCode: 0 Status: OK