Package: GeneNetworkBuilder Version: 1.44.0 Command: rm -rf GeneNetworkBuilder.buildbin-libdir && mkdir GeneNetworkBuilder.buildbin-libdir && F:\biocbuild\bbs-3.18-bioc\R\bin\R.exe CMD INSTALL --build --library=GeneNetworkBuilder.buildbin-libdir GeneNetworkBuilder_1.44.0.tar.gz StartedAt: 2024-04-16 07:03:15 -0400 (Tue, 16 Apr 2024) EndedAt: 2024-04-16 07:03:52 -0400 (Tue, 16 Apr 2024) EllapsedTime: 37.7 seconds RetCode: 0 Status: OK PackageFile: GeneNetworkBuilder_1.44.0.zip PackageFileSize: 9.141 MiB